BEGIN:VCALENDAR
VERSION:2.0
CALSCALE:GREGORIAN
PRODID:adamgibbons/ics
METHOD:PUBLISH
X-PUBLISHED-TTL:PT1H
BEGIN:VEVENT
UID:4567@lapunta.org
SUMMARY:Pranzo Benefit + Live Tereškova e Fatal Session
DTSTAMP:20260424T092012Z
DTSTART:20250216T120000Z
DTEND:20250216T180000Z
DESCRIPTION:Pranzo Benefit Vegan in sostegno ad Agripunk + pomeriggio danza
	nte con doppio\nlive punk Release Party Tereškova e Fatal Session
URL:https://lapunta.org/event/pranzo-benefit-live-tereskova-e-fatal-session
LOCATION:Agripunk Onlus - Località L'Isola\, 61 a\, Ambra (AR)
STATUS:CONFIRMED
CATEGORIES:
X-ALT-DESC;FMTTYPE=text/html:<p>Pranzo Benefit Vegan in sostegno ad Agripun
	k + pomeriggio danzante con doppio live punk Release Party Tereškova e Fat
	al Session </p>
END:VEVENT
END:VCALENDAR
